BEGIN:VCALENDAR
VERSION:2.0
PRODID:-//Beder - ECPv6.15.20//NONSGML v1.0//EN
CALSCALE:GREGORIAN
METHOD:PUBLISH
X-WR-CALNAME:Beder
X-ORIGINAL-URL:https://beder.org.uk
X-WR-CALDESC:Events for Beder
REFRESH-INTERVAL;VALUE=DURATION:PT1H
X-Robots-Tag:noindex
X-PUBLISHED-TTL:PT1H
BEGIN:VTIMEZONE
TZID:UTC
BEGIN:STANDARD
TZOFFSETFROM:+0000
TZOFFSETTO:+0000
TZNAME:UTC
DTSTART:20250101T000000
END:STANDARD
END:VTIMEZONE
BEGIN:VEVENT
DTSTART;TZID=UTC:20260117T180000
DTEND;TZID=UTC:20260117T220000
DTSTAMP:20260424T135510
CREATED:20251219T094441Z
LAST-MODIFIED:20251222T090208Z
UID:10000098-1768672800-1768687200@beder.org.uk
SUMMARY:Beder FC x Match Fit FC
DESCRIPTION:Beder FC will take on Match Fit FC at Beder’s home ground\, Meadowbank Football Ground in Dorking. Kick-off is at 6:00 pm. \nThis event is your chance to join Beder FC and play an exciting game of football whilst we all play our part in raising awareness around mental health and suicide prevention. \nAll proceeds raised from this event will support Beder in its efforts to raise awareness around mental health and suicide prevention – thank you in advance for your support!
URL:https://beder.org.uk/event/beder-fc-x-matchfitfc/
LOCATION:Meadowbank Stadium\, Meadowbank Football Ground\, Mill Ln\,\, Dorking\, RH4 1DX\, United Kingdom
ATTACH;FMTTYPE=image/png:https://beder.org.uk/wp-content/uploads/2025/12/MatchfitDec.png
END:VEVENT
BEGIN:VEVENT
DTSTART;TZID=UTC:20260221T180000
DTEND;TZID=UTC:20260221T210000
DTSTAMP:20260424T135510
CREATED:20260119T131904Z
LAST-MODIFIED:20260121T110728Z
UID:10000099-1771696800-1771707600@beder.org.uk
SUMMARY:Beder FC x Hunchman Trust
DESCRIPTION:Beder FC will take on Hunchman Trust FC at Beder’s home ground\, Meadowbank Football Ground in Dorking. Kick-off is at 6:00 pm. \nThis event is your chance to join Beder FC and play an exciting game of football whilst we all play our part in raising awareness around mental health and suicide prevention. \nAll proceeds raised from this event will support Beder in its efforts to raise awareness around mental health and suicide prevention – thank you in advance for your support!
URL:https://beder.org.uk/event/beder-fc-x-hunchman-trust/
LOCATION:Meadowbank Stadium\, Meadowbank Football Ground\, Mill Ln\,\, Dorking\, RH4 1DX\, United Kingdom
CATEGORIES:Events,Fixtures
ATTACH;FMTTYPE=image/png:https://beder.org.uk/wp-content/uploads/2026/01/Screenshot-2026-01-21-at-11.05.28.png
END:VEVENT
BEGIN:VEVENT
DTSTART;TZID=UTC:20260307T180000
DTEND;TZID=UTC:20260307T220000
DTSTAMP:20260424T135510
CREATED:20260203T102044Z
LAST-MODIFIED:20260203T102044Z
UID:10000100-1772906400-1772920800@beder.org.uk
SUMMARY:Beder FC x Stats Perform FC
DESCRIPTION:Beder FC will take on Stats Perform FC at Beder’s home ground\, Meadowbank Football Ground in Dorking. Kick-off is at 6:00 pm. \nThis event is your chance to join Beder FC and play an exciting game of football whilst we all play our part in raising awareness around mental health and suicide prevention. \nAll proceeds raised from this event will support Beder in its efforts to raise awareness around mental health and suicide prevention – thank you in advance for your support!
URL:https://beder.org.uk/event/beder-fc-x-stats-perform-fc/
LOCATION:Meadowbank Stadium\, Meadowbank Football Ground\, Mill Ln\,\, Dorking\, RH4 1DX\, United Kingdom
CATEGORIES:Events,Fixtures
ATTACH;FMTTYPE=image/png:https://beder.org.uk/wp-content/uploads/2026/02/1.png
END:VEVENT
BEGIN:VEVENT
DTSTART;TZID=UTC:20260411T180000
DTEND;TZID=UTC:20260411T220000
DTSTAMP:20260424T135510
CREATED:20260203T102522Z
LAST-MODIFIED:20260203T102522Z
UID:10000101-1775930400-1775944800@beder.org.uk
SUMMARY:Beder FC x Beer Harris
DESCRIPTION:Beder FC will take on Beer Harris FC at Beder’s home ground\, Meadowbank Football Ground in Dorking. Kick-off is at 6:00 pm. \nThis event is your chance to join Beder FC and play an exciting game of football whilst we all play our part in raising awareness around mental health and suicide prevention. \nAll proceeds raised from this event will support Beder in its efforts to raise awareness around mental health and suicide prevention – thank you in advance for your support!
URL:https://beder.org.uk/event/beder-fc-x-beer-harris/
LOCATION:Meadowbank Stadium\, Meadowbank Football Ground\, Mill Ln\,\, Dorking\, RH4 1DX\, United Kingdom
CATEGORIES:Events,Fixtures
ATTACH;FMTTYPE=image/png:https://beder.org.uk/wp-content/uploads/2026/02/2.png
END:VEVENT
BEGIN:VEVENT
DTSTART;TZID=UTC:20260509T080000
DTEND;TZID=UTC:20260509T170000
DTSTAMP:20260424T135510
CREATED:20260203T103210Z
LAST-MODIFIED:20260203T103210Z
UID:10000103-1778313600-1778346000@beder.org.uk
SUMMARY:Beder FC at Mental Health World Cup
DESCRIPTION:Beder FC at Mental Health World Cup taking place at Watford FC (Vicarage Road) \nAll proceeds raised from this event will support Beder in its efforts to raise awareness around mental health and suicide prevention – thank you in advance for your support!
URL:https://beder.org.uk/event/beder-fc-at-mental-health-world-cup-2/
LOCATION:Watford FC (Vicarage Road)
CATEGORIES:Events,Fixtures
ATTACH;FMTTYPE=image/png:https://beder.org.uk/wp-content/uploads/2026/02/4.png
END:VEVENT
BEGIN:VEVENT
DTSTART;TZID=UTC:20260513T183000
DTEND;TZID=UTC:20260513T213000
DTSTAMP:20260424T135510
CREATED:20260321T143502Z
LAST-MODIFIED:20260321T144512Z
UID:10000104-1778697000-1778707800@beder.org.uk
SUMMARY:Beder Cup 2026
DESCRIPTION:The Beder Cup is a 5 a-side football tournament taking place at AFC Wimbledon’s\, Cherry Red Records Stadium on Wednesday 13 May 2026 from 6.30-9pm in support of Beder. \nThis event provides you with the chance to bring together a group of friends\, work colleagues or teammates from your local football team and support Beder in its work to normalise the conversation surrounding these important societal issues. \nEach team is allowed up to 7 players and will be entered into a group of 4 teams with the aim of reaching the quarter-finals\, semi-final and final in order to win The Beder Cup. \nSpectators are welcome and the stands/bar will be open so we look forward to an exciting day. \nAll profits raised from this event will support Beder provide free therapy through Beder Therapy Vouchers.
URL:https://beder.org.uk/event/beder-cup-2026/
LOCATION:AFC Wimbledon\, Cherry Red Records Stadium\, AFC Wimbledon\, Cherry Red Records Stadium
CATEGORIES:Events
ATTACH;FMTTYPE=image/png:https://beder.org.uk/wp-content/uploads/2026/03/Screenshot-2026-03-17-181429.png
END:VEVENT
BEGIN:VEVENT
DTSTART;TZID=UTC:20260524T090000
DTEND;TZID=UTC:20260524T170000
DTSTAMP:20260424T135510
CREATED:20260203T102919Z
LAST-MODIFIED:20260203T102919Z
UID:10000102-1779613200-1779642000@beder.org.uk
SUMMARY:Beder FC at Mental Health World Cup
DESCRIPTION:Beder FC at Mental Health World Cup\, taking place at Millwall FC (The Den) \nAll proceeds raised from this event will support Beder in its efforts to raise awareness around mental health and suicide prevention – thank you in advance for your support!
URL:https://beder.org.uk/event/beder-fc-at-mental-health-world-cup/
LOCATION:Millwall FC (The Den)
CATEGORIES:Events,Fixtures
ATTACH;FMTTYPE=image/png:https://beder.org.uk/wp-content/uploads/2026/02/3.png
END:VEVENT
END:VCALENDAR