BEGIN:VCALENDAR
VERSION:2.0
PRODID:-//Beder - ECPv6.15.20//NONSGML v1.0//EN
CALSCALE:GREGORIAN
METHOD:PUBLISH
X-ORIGINAL-URL:https://beder.org.uk
X-WR-CALDESC:Events for Beder
REFRESH-INTERVAL;VALUE=DURATION:PT1H
X-Robots-Tag:noindex
X-PUBLISHED-TTL:PT1H
BEGIN:VTIMEZONE
TZID:UTC
BEGIN:STANDARD
TZOFFSETFROM:+0000
TZOFFSETTO:+0000
TZNAME:UTC
DTSTART:20230101T000000
END:STANDARD
END:VTIMEZONE
BEGIN:VEVENT
DTSTART;TZID=UTC:20240118T080000
DTEND;TZID=UTC:20240118T170000
DTSTAMP:20260426T002647
CREATED:20240118T103926Z
LAST-MODIFIED:20240118T182824Z
UID:10000071-1705564800-1705597200@beder.org.uk
SUMMARY:Testing Event Ticket
DESCRIPTION:
URL:https://beder.org.uk/event/testing-event-ticket/
END:VEVENT
BEGIN:VEVENT
DTSTART;TZID=UTC:20240127T180000
DTEND;TZID=UTC:20240127T200000
DTSTAMP:20260426T002647
CREATED:20231116T114349Z
LAST-MODIFIED:20240119T092632Z
UID:10000066-1706378400-1706385600@beder.org.uk
SUMMARY:Beder FC vs. Easy Jet FC
DESCRIPTION:Join us as Beder FC take on Easy Jet FC on Saturday 27th January (KO @ 6.00pm) at Meadowbank Stadium in Dorking. \nAll proceeds raised from this event will support Beder in its efforts to provide free access to therapy and raise awareness around mental health and suicide prevention – thank you in advance for your support!
URL:https://beder.org.uk/event/beder-fc-vs-easy-jet-jan/
LOCATION:Meadowbank Stadium\, Meadowbank Football Ground\, Mill Ln\,\, Dorking\, RH4 1DX\, United Kingdom
CATEGORIES:Events,Fixtures
ATTACH;FMTTYPE=image/png:https://beder.org.uk/wp-content/uploads/2023/11/Easyjet.png
END:VEVENT
END:VCALENDAR