BEGIN:VCALENDAR
VERSION:2.0
PRODID:-//Beder - ECPv6.15.20//NONSGML v1.0//EN
CALSCALE:GREGORIAN
METHOD:PUBLISH
X-WR-CALNAME:Beder
X-ORIGINAL-URL:https://beder.org.uk
X-WR-CALDESC:Events for Beder
REFRESH-INTERVAL;VALUE=DURATION:PT1H
X-Robots-Tag:noindex
X-PUBLISHED-TTL:PT1H
BEGIN:VTIMEZONE
TZID:UTC
BEGIN:STANDARD
TZOFFSETFROM:+0000
TZOFFSETTO:+0000
TZNAME:UTC
DTSTART:20240101T000000
END:STANDARD
END:VTIMEZONE
BEGIN:VEVENT
DTSTART;TZID=UTC:20250406T100000
DTEND;TZID=UTC:20250406T113000
DTSTAMP:20260424T204318
CREATED:20250303T093924Z
LAST-MODIFIED:20250303T094150Z
UID:10000083-1743933600-1743939000@beder.org.uk
SUMMARY:Beder Walk
DESCRIPTION:Join us for our first Beder Walk through Richmond Park which brings like-minded people together for a family and dog friendly walk through nature in support of Beder. \nWe will meet at 9.45am at Kingston Gate of Richmond Park for the Beder Walk to start at 10am. \nThe walk will be 5km\, approximately\, which is the same distance as a park run but we will be walking and chatting in groups instead. \nYou set your own pace\, but we predict even the slowest ambler will take no more than 60-90 minutes. \nIt is completely free and open to all ages as it’s a chance to make time for self care\, put down our mobiles away and meet up for our fun-filled walk in one of London’s oldest and most spectacular parks. \nWe will then finish the walk at The Albert Pub for complimentary refreshments for all! \nThis event is in partnership with The Brothers Trust and in support of Beder.
URL:https://beder.org.uk/event/beder-walk/
LOCATION:Kingston Gate\, Richmond Park\, Kingston Gate\, Richmond Park\, London\, United Kingdom
ATTACH;FMTTYPE=image/jpeg:https://beder.org.uk/wp-content/uploads/2025/03/WhatsApp-Image-2025-02-28-at-16.55.23-e1747171834748.jpeg
END:VEVENT
BEGIN:VEVENT
DTSTART;TZID=UTC:20250412T180000
DTEND;TZID=UTC:20250412T180000
DTSTAMP:20260424T204318
CREATED:20250310T194105Z
LAST-MODIFIED:20250311T093634Z
UID:10000084-1744480800-1744480800@beder.org.uk
SUMMARY:Beder FC vs Virgin Atlantic
DESCRIPTION:Beder FC vs Virgin Atlantic at Meadowbank. Kick-off is at 6:00 pm. \nThis event is your chance to join Beder FC and play an exciting game of football whilst we all play our part in raising awareness around mental health and suicide prevention. \nAll proceeds raised from this event will support Beder in its efforts to raise awareness around mental health and suicide prevention – thank you in advance for your support!
URL:https://beder.org.uk/event/beder-fc-vs-virgin-atlantic-4/
LOCATION:Meadowbank Stadium\, Meadowbank Football Ground\, Mill Ln\,\, Dorking\, RH4 1DX\, United Kingdom
CATEGORIES:Events,Fixtures
ATTACH;FMTTYPE=image/png:https://beder.org.uk/wp-content/uploads/2025/03/WorldCupTicket.psd.png
END:VEVENT
END:VCALENDAR