BEGIN:VCALENDAR
VERSION:2.0
PRODID:-//Beder - ECPv6.15.20//NONSGML v1.0//EN
CALSCALE:GREGORIAN
METHOD:PUBLISH
X-WR-CALNAME:Beder
X-ORIGINAL-URL:https://beder.org.uk
X-WR-CALDESC:Events for Beder
REFRESH-INTERVAL;VALUE=DURATION:PT1H
X-Robots-Tag:noindex
X-PUBLISHED-TTL:PT1H
BEGIN:VTIMEZONE
TZID:UTC
BEGIN:STANDARD
TZOFFSETFROM:+0000
TZOFFSETTO:+0000
TZNAME:UTC
DTSTART:20240101T000000
END:STANDARD
END:VTIMEZONE
BEGIN:VEVENT
DTSTART;TZID=UTC:20251213T180000
DTEND;TZID=UTC:20251213T220000
DTSTAMP:20260424T063912
CREATED:20250905T074243Z
LAST-MODIFIED:20250905T123859Z
UID:10000094-1765648800-1765663200@beder.org.uk
SUMMARY:Beder FC vs Ripple FC
DESCRIPTION:Beder FC vs Ripple FC at Meadowbank Stadium home ground. Kick-off is at 6pm \nThis event is your chance to join Beder FC and play an exciting game of football whilst we all play our part in raising awareness around mental health and suicide prevention. \nAll proceeds raised from this event will support Beder in its efforts to raise awareness around mental health and suicide prevention – thank you in advance for your support!
URL:https://beder.org.uk/event/beder-fc-vs-ripple-fc-4/
LOCATION:Meadowbank Stadium\, Meadowbank Football Ground\, Mill Ln\,\, Dorking\, RH4 1DX\, United Kingdom
CATEGORIES:Events,Fixtures
ATTACH;FMTTYPE=image/png:https://beder.org.uk/wp-content/uploads/2025/09/5.png
END:VEVENT
BEGIN:VEVENT
DTSTART;TZID=UTC:20251215T190000
DTEND;TZID=UTC:20251215T230000
DTSTAMP:20260424T063912
CREATED:20250909T074457Z
LAST-MODIFIED:20250918T152921Z
UID:10000095-1765825200-1765839600@beder.org.uk
SUMMARY:Concert for Mental Health - Christmas Special
DESCRIPTION:Concert for Mental Health – Christmas Special \nBeder presents an exciting line-up including Sonny Tennet\, Nate James and BSHP coming together for a special one-night only festive charity concert at The Jazz Cafe in London. \nConcert for Mental Health – in support of Beder which is a mental health and suicide prevention charity – brings together amazing musicians\, music lovers and a growing community joining Beder in its unique approach to softly raising awareness around these important societal issues. \nJoin us for a memorable evening with all profits raised supporting Beder (Charity Commission No. 1187475).
URL:https://beder.org.uk/event/concert-for-mental-health-christmas-special/
LOCATION:The Jazz Cafe\, 5 Parkway\, London\, NW1 7PG
CATEGORIES:Events
ATTACH;FMTTYPE=image/jpeg:https://beder.org.uk/wp-content/uploads/2025/09/WhatsApp-Image-2025-09-18-at-16.19.48.jpeg
END:VEVENT
END:VCALENDAR