BEGIN:VCALENDAR
VERSION:2.0
PRODID:-//Beder - ECPv6.15.20//NONSGML v1.0//EN
CALSCALE:GREGORIAN
METHOD:PUBLISH
X-WR-CALNAME:Beder
X-ORIGINAL-URL:https://beder.org.uk
X-WR-CALDESC:Events for Beder
REFRESH-INTERVAL;VALUE=DURATION:PT1H
X-Robots-Tag:noindex
X-PUBLISHED-TTL:PT1H
BEGIN:VTIMEZONE
TZID:UTC
BEGIN:STANDARD
TZOFFSETFROM:+0000
TZOFFSETTO:+0000
TZNAME:UTC
DTSTART:20230101T000000
END:STANDARD
END:VTIMEZONE
BEGIN:VEVENT
DTSTART;TZID=UTC:20240413T180000
DTEND;TZID=UTC:20240413T210000
DTSTAMP:20260426T043949
CREATED:20240319T063930Z
LAST-MODIFIED:20240319T074807Z
UID:10000073-1713031200-1713042000@beder.org.uk
SUMMARY:Beder FC vs Virgin Atlantic
DESCRIPTION:Beder FC vs Virgin Atlantic at Meadowbank Stadium. Kick-off is at 6:00 pm on 13th April 2024. \nThis event is your chance to join Beder FC and play an exciting game of football whilst we all play our part in raising awareness around mental health and suicide prevention. \nAll proceeds raised from this event will support Beder in its efforts to raise awareness around mental health and suicide prevention – thank you in advance for your support!
URL:https://beder.org.uk/event/beder-fc-vs-virgin-atlantic-3/
ATTACH;FMTTYPE=image/png:https://beder.org.uk/wp-content/uploads/2024/03/virgin1.png
END:VEVENT
END:VCALENDAR