BEGIN:VCALENDAR
VERSION:2.0
PRODID:-//Beder - ECPv6.15.20//NONSGML v1.0//EN
CALSCALE:GREGORIAN
METHOD:PUBLISH
X-WR-CALNAME:Beder
X-ORIGINAL-URL:https://beder.org.uk
X-WR-CALDESC:Events for Beder
REFRESH-INTERVAL;VALUE=DURATION:PT1H
X-Robots-Tag:noindex
X-PUBLISHED-TTL:PT1H
BEGIN:VTIMEZONE
TZID:UTC
BEGIN:STANDARD
TZOFFSETFROM:+0000
TZOFFSETTO:+0000
TZNAME:UTC
DTSTART:20240101T000000
END:STANDARD
END:VTIMEZONE
BEGIN:VEVENT
DTSTART;TZID=UTC:20250304T190000
DTEND;TZID=UTC:20250304T230000
DTSTAMP:20260425T135410
CREATED:20241016T075202Z
LAST-MODIFIED:20241016T075350Z
UID:10000079-1741114800-1741129200@beder.org.uk
SUMMARY:Concert for Mental Health 2025
DESCRIPTION:Beder presents an incredible line-up including Luke Burr\, Jasmine Thompson\, Tom Speight and Zoe Kypri coming together for a special one-night only charity concert at The Jazz Cafe in London. \nConcert for Mental Health – in support of Beder which is a mental health and suicide prevention charity – brings together amazing musicians\, music lovers and a growing community joining Beder in its unique approach to softly raising awareness around these important societal issues. \nJoin us for a memorable evening with all profits raised supporting Beder (Charity Commission No. 1187475).
URL:https://beder.org.uk/event/concert-for-mental-health-2025/
LOCATION:The Jazz Cafe\, 5 Parkway\, London\, NW1 7PG
ATTACH;FMTTYPE=image/jpeg:https://beder.org.uk/wp-content/uploads/2024/10/WhatsApp-Image-2024-10-15-at-23.26.07.jpeg
END:VEVENT
END:VCALENDAR