BEGIN:VCALENDAR
VERSION:2.0
PRODID:-//Beder - ECPv6.15.20//NONSGML v1.0//EN
CALSCALE:GREGORIAN
METHOD:PUBLISH
X-ORIGINAL-URL:https://beder.org.uk
X-WR-CALDESC:Events for Beder
REFRESH-INTERVAL;VALUE=DURATION:PT1H
X-Robots-Tag:noindex
X-PUBLISHED-TTL:PT1H
BEGIN:VTIMEZONE
TZID:UTC
BEGIN:STANDARD
TZOFFSETFROM:+0000
TZOFFSETTO:+0000
TZNAME:UTC
DTSTART:20240101T000000
END:STANDARD
END:VTIMEZONE
BEGIN:VEVENT
DTSTART;TZID=UTC:20251004T110000
DTEND;TZID=UTC:20251004T130000
DTSTAMP:20260424T153329
CREATED:20250918T112838Z
LAST-MODIFIED:20250918T112838Z
UID:10000096-1759575600-1759582800@beder.org.uk
SUMMARY:Beder Walk
DESCRIPTION:Join us for our next Beder Walk through Richmond Park which brings like-minded people together for a family and dog friendly walk through nature in support of Beder. \nWe will meet at 11am at Kingston Gate of Richmond Park for the Beder Walk to start at 11:15am. \nThe walk will be 5km\, approximately\, which is the same distance as a park run but we will be walking and chatting in groups instead. \nYou set your own pace\, but we predict even the slowest ambler will take no more than 60-90 minutes. \nIt is completely free and open to all ages as it’s a chance to make time for self care\, put down our mobiles away and meet up for our fun-filled walk in one of London’s oldest and most spectacular parks. \nThis event is in partnership with The Brothers Trust and in support of Beder. \nSee more here: https://www.instagram.com/reel/DJogXzfNm4t/
URL:https://beder.org.uk/event/beder-walk-4/
LOCATION:Kingston Gate\, Richmond Park\, Kingston Gate\, Richmond Park\, London\, United Kingdom
CATEGORIES:Events
ATTACH;FMTTYPE=image/jpeg:https://beder.org.uk/wp-content/uploads/2025/03/WhatsApp-Image-2025-02-28-at-16.55.23-e1747171834748.jpeg
END:VEVENT
BEGIN:VEVENT
DTSTART;TZID=UTC:20251004T180000
DTEND;TZID=UTC:20251004T220000
DTSTAMP:20260424T153329
CREATED:20250905T073728Z
LAST-MODIFIED:20250905T130517Z
UID:10000092-1759600800-1759615200@beder.org.uk
SUMMARY:Beder FC vs Beer Harris Memorial Trust
DESCRIPTION:Beder FC vs Beer Harris Memorial Trust at Meadowbank Stadium home ground. Kick-off is at 6pm \nThis event is your chance to join Beder FC and play an exciting game of football whilst we all play our part in raising awareness around mental health and suicide prevention. \n  \nAll proceeds raised from this event will support Beder in its efforts to raise awareness around mental health and suicide prevention – thank you in advance for your support!
URL:https://beder.org.uk/event/beder-fc-vs-beer-harris-memorial-trust/
LOCATION:Meadowbank Stadium\, Meadowbank Football Ground\, Mill Ln\,\, Dorking\, RH4 1DX\, United Kingdom
CATEGORIES:Events,Fixtures
ATTACH;FMTTYPE=image/png:https://beder.org.uk/wp-content/uploads/2025/09/3.png
END:VEVENT
END:VCALENDAR