BEGIN:VCALENDAR
VERSION:2.0
PRODID:-//Beder - ECPv6.15.20//NONSGML v1.0//EN
CALSCALE:GREGORIAN
METHOD:PUBLISH
X-WR-CALNAME:Beder
X-ORIGINAL-URL:https://beder.org.uk
X-WR-CALDESC:Events for Beder
REFRESH-INTERVAL;VALUE=DURATION:PT1H
X-Robots-Tag:noindex
X-PUBLISHED-TTL:PT1H
BEGIN:VTIMEZONE
TZID:UTC
BEGIN:STANDARD
TZOFFSETFROM:+0000
TZOFFSETTO:+0000
TZNAME:UTC
DTSTART:20240101T000000
END:STANDARD
END:VTIMEZONE
BEGIN:VEVENT
DTSTART;TZID=UTC:20250508T180000
DTEND;TZID=UTC:20250508T220000
DTSTAMP:20260423T213112
CREATED:20250414T122242Z
LAST-MODIFIED:20250414T122242Z
UID:10000085-1746727200-1746741600@beder.org.uk
SUMMARY:6pm Club x Beder
DESCRIPTION:We are pleased to invite you to a special edition of The 6pm Club on 8 May 2025 from 6-10pm. \nThe 6pm Club is proudly partnering with Beder\, a mental health and suicide prevention charity taking a unique approach to softly raise awareness around these important issues\, which is establishing a growing presence in the world of sport. \nVenue – 1 Warwick\, a members only club in the heart of Soho\, will kindly host this special event. \nTickets are £50 in advance from Beder’s website (www.beder.org.uk) or £60 on the door. \nWe hope you can join us and look forward to seeing you. \nThe ticket price includes a choice of beer or wine & canapés whilst the bar kitty sustains\, thereafter a cash bar will come into effect. The 6pm Club is one of the longest established networking groups in the UK for professionals and entrepreneurs in sports marketing\, sponsorship and media.
URL:https://beder.org.uk/event/6pm-club-x-beder/
LOCATION:1 Warwick\, London\, W1B 5LRL\, 1 Warwick\, London\, W1B 5LR
CATEGORIES:Events
ATTACH;FMTTYPE=image/png:https://beder.org.uk/wp-content/uploads/2025/04/Untitled-design-5.png
END:VEVENT
END:VCALENDAR