BEGIN:VCALENDAR
VERSION:2.0
PRODID:-//Beder - ECPv6.15.20//NONSGML v1.0//EN
CALSCALE:GREGORIAN
METHOD:PUBLISH
X-ORIGINAL-URL:https://beder.org.uk
X-WR-CALDESC:Events for Beder
REFRESH-INTERVAL;VALUE=DURATION:PT1H
X-Robots-Tag:noindex
X-PUBLISHED-TTL:PT1H
BEGIN:VTIMEZONE
TZID:UTC
BEGIN:STANDARD
TZOFFSETFROM:+0000
TZOFFSETTO:+0000
TZNAME:UTC
DTSTART:20240101T000000
END:STANDARD
END:VTIMEZONE
BEGIN:VEVENT
DTSTART;TZID=UTC:20250728T150000
DTEND;TZID=UTC:20250728T170000
DTSTAMP:20260423T230315
CREATED:20250620T191940Z
LAST-MODIFIED:20250621T095123Z
UID:10000088-1753714800-1753722000@beder.org.uk
SUMMARY:LOTI x Beder 5 a Side Football Tournament
DESCRIPTION:London on the Inside (LOTI) is proud to be partnering with Beder to host a charity 5 a-side football tournament on Monday 28 July from 3-5pm at Powerleague in Shepherds Bush. \nEach ticket guarantees you a team entry consisting of up to 7 players per team. \nBeder is a mental health and suicide prevention charity recognised by LOTI Heroes in previous years for the outstanding work they do. \nBeder takes a unique approach to softly raising awareness around these important issues through exciting events and initiatives – including in football through Beder FC. Through these initiatives\, Beder’s provides free access to therapy and its work challenges the stigma surrounding mental health and suicide prevention; stimulates a dialogue which raises awareness; and provides a platform for us all to play our part in normalising the conversation. \nBeder was founded by Razzak Mirjan and his family in 2019 following the loss of Beder Mirjan who sadly took his own life at the age of 18 in April 2017. \nWe hope you can join us for an enjoyable afternoon!
URL:https://beder.org.uk/event/loti-x-beder-5-a-sidefootball-tournament/
LOCATION:41 S Africa Rd\, London W12 7RW\, 41 S Africa Rd\,\, London\, W12 7RW
CATEGORIES:Events,Fixtures
ATTACH;FMTTYPE=image/jpeg:https://beder.org.uk/wp-content/uploads/2025/06/WhatsApp-Image-2025-06-20-at-12.36.19.jpeg
END:VEVENT
END:VCALENDAR