BEGIN:VCALENDAR
VERSION:2.0
PRODID:-//Beder - ECPv6.15.20//NONSGML v1.0//EN
CALSCALE:GREGORIAN
METHOD:PUBLISH
X-ORIGINAL-URL:https://beder.org.uk
X-WR-CALDESC:Events for Beder
REFRESH-INTERVAL;VALUE=DURATION:PT1H
X-Robots-Tag:noindex
X-PUBLISHED-TTL:PT1H
BEGIN:VTIMEZONE
TZID:UTC
BEGIN:STANDARD
TZOFFSETFROM:+0000
TZOFFSETTO:+0000
TZNAME:UTC
DTSTART:20220101T000000
END:STANDARD
END:VTIMEZONE
BEGIN:VEVENT
DTSTART;TZID=UTC:20230508T100000
DTEND;TZID=UTC:20230508T140000
DTSTAMP:20260423T154415
CREATED:20230406T134544Z
LAST-MODIFIED:20230504T123334Z
UID:10000061-1683540000-1683554400@beder.org.uk
SUMMARY:The Beder Cup 2023
DESCRIPTION:Join us for a 5 a-side football tournament over the Bank Holiday on Monday 8 May 2023 to help softly raise awareness around mental and suicide prevention at AFC Wimbledon’s new stadium\, Cherry Red Records Stadium. \nThe Beder Cup is a 5 a-side football tournament taking place during the Bank Holiday on Monday 8 May 2023 at AFC Wimbledon’s new stadium\, Cherry Red Records Stadium whilst softly raising awareness around the topics of mental health and suicide prevention. \nThis event provides you with the chance to bring together a group of friends\, work colleagues or teammates from your local football team and support Beder in its work to normalise the conversation surrounding these important societal issues. \nEach team is allowed up to 8 players and will be entered into a group of 4 teams with the aim of reaching the quarter-finals\, semi-final and final in order to win The Beder Cup! \nSpectators are welcome and the stands/bar will be open so we look forward to an exciting day! \nAll proceeds raised from this event will support Beder in its efforts to raise awareness around mental health and suicide prevention – thank you in advance for your support!
URL:https://beder.org.uk/event/the-beder-cup-2023/
LOCATION:AFC Wimbledon\, Cherry Red Records Stadium\, AFC Wimbledon\, Cherry Red Records Stadium
END:VEVENT
END:VCALENDAR