BEGIN:VCALENDAR
VERSION:2.0
PRODID:-//Beder - ECPv6.15.20//NONSGML v1.0//EN
CALSCALE:GREGORIAN
METHOD:PUBLISH
X-WR-CALNAME:Beder
X-ORIGINAL-URL:https://beder.org.uk
X-WR-CALDESC:Events for Beder
REFRESH-INTERVAL;VALUE=DURATION:PT1H
X-Robots-Tag:noindex
X-PUBLISHED-TTL:PT1H
BEGIN:VTIMEZONE
TZID:UTC
BEGIN:STANDARD
TZOFFSETFROM:+0000
TZOFFSETTO:+0000
TZNAME:UTC
DTSTART:20210101T000000
END:STANDARD
END:VTIMEZONE
BEGIN:VEVENT
DTSTART;TZID=UTC:20220522T180000
DTEND;TZID=UTC:20220522T220000
DTSTAMP:20260423T230554
CREATED:20220207T173058Z
LAST-MODIFIED:20250905T123629Z
UID:10000039-1653242400-1653256800@beder.org.uk
SUMMARY:Beder FC vs. Virgin Atlantic
DESCRIPTION:Beder FC vs Virgin Atlantic at Cardiff City Stadium home ground. Kick-off is at 6:00 pm. \n  \nThis event is your chance to join Beder FC and play an exciting game of football whilst we all play our part in raising awareness around mental health and suicide prevention. \n  \nAll proceeds raised from this event will support Beder in its efforts to raise awareness around mental health and suicide prevention – thank you in advance for your support!
URL:https://beder.org.uk/event/beder-fc-vs-virgin-atlantic/
LOCATION:Cardiff City Stadium\, Cardiff City Stadium\, Cardiff\, United Kingdom
CATEGORIES:Fixtures
ATTACH;FMTTYPE=image/png:https://beder.org.uk/wp-content/uploads/2022/02/Virgin-Beder.png
END:VEVENT
END:VCALENDAR