BEGIN:VCALENDAR
VERSION:2.0
PRODID:-//Beder - ECPv6.15.20//NONSGML v1.0//EN
CALSCALE:GREGORIAN
METHOD:PUBLISH
X-WR-CALNAME:Beder
X-ORIGINAL-URL:https://beder.org.uk
X-WR-CALDESC:Events for Beder
REFRESH-INTERVAL;VALUE=DURATION:PT1H
X-Robots-Tag:noindex
X-PUBLISHED-TTL:PT1H
BEGIN:VTIMEZONE
TZID:UTC
BEGIN:STANDARD
TZOFFSETFROM:+0000
TZOFFSETTO:+0000
TZNAME:UTC
DTSTART:20220101T000000
END:STANDARD
END:VTIMEZONE
BEGIN:VEVENT
DTSTART;TZID=UTC:20230205T170000
DTEND;TZID=UTC:20230205T220000
DTSTAMP:20260423T214930
CREATED:20230201T125150Z
LAST-MODIFIED:20230209T093045Z
UID:10000058-1675616400-1675634400@beder.org.uk
SUMMARY:Beder FC vs. Ripple FC
DESCRIPTION:Beder FC vs Ripple FC at Havant & Waterlooville\, The Westleigh. Kick-off is at 5:00 pm. \n  \nThis event is your chance to join Beder FC and play an exciting game of football whilst we all play our part in raising awareness around mental health and suicide prevention. \n  \nAll proceeds raised from this event will support Beder in its efforts to raise awareness around mental health and suicide prevention – thank you in advance for your support!
URL:https://beder.org.uk/event/beder-fc-vs-ripple-fc-2/
LOCATION:Havant & Waterlooville\, The Westleigh
CATEGORIES:Events,Fixtures
ATTACH;FMTTYPE=image/png:https://beder.org.uk/wp-content/uploads/2023/02/Ripple5thmarch.png
END:VEVENT
END:VCALENDAR