BEGIN:VCALENDAR
VERSION:2.0
PRODID:-//Beder - ECPv6.15.20//NONSGML v1.0//EN
CALSCALE:GREGORIAN
METHOD:PUBLISH
X-WR-CALNAME:Beder
X-ORIGINAL-URL:https://beder.org.uk
X-WR-CALDESC:Events for Beder
REFRESH-INTERVAL;VALUE=DURATION:PT1H
X-Robots-Tag:noindex
X-PUBLISHED-TTL:PT1H
BEGIN:VTIMEZONE
TZID:UTC
BEGIN:STANDARD
TZOFFSETFROM:+0000
TZOFFSETTO:+0000
TZNAME:UTC
DTSTART:20210101T000000
END:STANDARD
END:VTIMEZONE
BEGIN:VEVENT
DTSTART;TZID=UTC:20241012T180000
DTEND;TZID=UTC:20241012T220000
DTSTAMP:20260423T213451
CREATED:20240918T100431Z
LAST-MODIFIED:20240918T100431Z
UID:10000077-1728756000-1728770400@beder.org.uk
SUMMARY:Beder FC V Friday Night Misfits
DESCRIPTION:Beder FC will take on Friday Night Misfits at Beder’s home ground\, Meadowbank Football Ground in Dorking. Kick-off is at 6:00 pm.\n\n\nThis event is your chance to join Beder FC and play an exciting game of football whilst we all play our part in raising awareness around mental health and suicide prevention. \nAll proceeds raised from this event will support Beder in its efforts to raise awareness around mental health and suicide prevention – thank you in advance for your support!
URL:https://beder.org.uk/event/beder-fc-v-friday-night-misfits/
LOCATION:Meadowbank Stadium\, Meadowbank Football Ground\, Mill Ln\,\, Dorking\, RH4 1DX\, United Kingdom
CATEGORIES:Events,Fixtures
ATTACH;FMTTYPE=image/png:https://beder.org.uk/wp-content/uploads/2024/09/bederfc1.png
END:VEVENT
BEGIN:VEVENT
DTSTART;TZID=UTC:20240831T180000
DTEND;TZID=UTC:20240831T200000
DTSTAMP:20260423T213451
CREATED:20240821T140231Z
LAST-MODIFIED:20240823T123032Z
UID:10000076-1725127200-1725134400@beder.org.uk
SUMMARY:Beder x Match Fit
DESCRIPTION:Beder FC will take on Match FIT at Beder’s home ground\, Meadowbank Football Ground in Dorking. Kick-off is at 6:00 pm.\n\n\nThis event is your chance to join Beder FC and play an exciting game of football whilst we all play our part in raising awareness around mental health and suicide prevention. \nAll proceeds raised from this event will support Beder in its efforts to raise awareness around mental health and suicide prevention – thank you in advance for your support!
URL:https://beder.org.uk/event/beder-x-match-fit/
LOCATION:Meadowbank Stadium\, Meadowbank Football Ground\, Mill Ln\,\, Dorking\, RH4 1DX\, United Kingdom
CATEGORIES:Events,Fixtures
END:VEVENT
BEGIN:VEVENT
DTSTART;TZID=UTC:20240323T180000
DTEND;TZID=UTC:20240323T200000
DTSTAMP:20260423T213451
CREATED:20240208T095219Z
LAST-MODIFIED:20240208T095219Z
UID:10000072-1711216800-1711224000@beder.org.uk
SUMMARY:Beder FC vs Match FIT
DESCRIPTION:Join us as Beder FC take on Match Fit on 23rd March 2024 (KO @ 6pm) at Meadowbank Stadium in Dorking. \nAll proceeds raised from this event will support Beder in its efforts to provide free access to therapy and raise awareness around mental health and suicide prevention – thank you in advance for your support!
URL:https://beder.org.uk/event/beder-fc-vs-match-fit/
LOCATION:Meadowbank Stadium\, Meadowbank Football Ground\, Mill Ln\,\, Dorking\, RH4 1DX\, United Kingdom
ATTACH;FMTTYPE=image/png:https://beder.org.uk/wp-content/uploads/2024/02/Matchfit.png
END:VEVENT
BEGIN:VEVENT
DTSTART;TZID=UTC:20240127T180000
DTEND;TZID=UTC:20240127T200000
DTSTAMP:20260423T213451
CREATED:20231116T114349Z
LAST-MODIFIED:20240119T092632Z
UID:10000066-1706378400-1706385600@beder.org.uk
SUMMARY:Beder FC vs. Easy Jet FC
DESCRIPTION:Join us as Beder FC take on Easy Jet FC on Saturday 27th January (KO @ 6.00pm) at Meadowbank Stadium in Dorking. \nAll proceeds raised from this event will support Beder in its efforts to provide free access to therapy and raise awareness around mental health and suicide prevention – thank you in advance for your support!
URL:https://beder.org.uk/event/beder-fc-vs-easy-jet-jan/
LOCATION:Meadowbank Stadium\, Meadowbank Football Ground\, Mill Ln\,\, Dorking\, RH4 1DX\, United Kingdom
CATEGORIES:Events,Fixtures
ATTACH;FMTTYPE=image/png:https://beder.org.uk/wp-content/uploads/2023/11/Easyjet.png
END:VEVENT
BEGIN:VEVENT
DTSTART;TZID=UTC:20231209T180000
DTEND;TZID=UTC:20231209T200000
DTSTAMP:20260423T213451
CREATED:20231116T115007Z
LAST-MODIFIED:20231117T112649Z
UID:10000067-1702144800-1702152000@beder.org.uk
SUMMARY:Beder FC vs. Match Fit
DESCRIPTION:Join us as Beder FC take on Match Fit on Saturday 9th December (KO @ 6.00pm) at Meadowbank Stadium in Dorking. \nAll proceeds raised from this event will support Beder in its efforts to provide free access to therapy and raise awareness around mental health and suicide prevention – thank you in advance for your support!
URL:https://beder.org.uk/event/beder-fc-vs-match-fit-2/
LOCATION:Meadowbank Stadium\, Meadowbank Football Ground\, Mill Ln\,\, Dorking\, RH4 1DX\, United Kingdom
CATEGORIES:Events,Fixtures
ATTACH;FMTTYPE=image/png:https://beder.org.uk/wp-content/uploads/2023/11/MatchfitDec.png
END:VEVENT
BEGIN:VEVENT
DTSTART;TZID=UTC:20231118T180000
DTEND;TZID=UTC:20231118T200000
DTSTAMP:20260423T213451
CREATED:20230922T151004Z
LAST-MODIFIED:20230927T080810Z
UID:10000065-1700330400-1700337600@beder.org.uk
SUMMARY:Beder FC vs. Boys Get Sad Too FC
DESCRIPTION:Join us as Beder FC take on Boys Get Sad Too FC on Saturday 18th November (KO @ 6.00pm) at Meadowbank Stadium in Dorking. \nAll proceeds raised from this event will support Beder in its efforts to provide free access to therapy and raise awareness around mental health and suicide prevention – thank you in advance for your support!
URL:https://beder.org.uk/event/beder-fc-vs-boys-get-sad-too-fc/
LOCATION:Meadowbank Stadium\, Meadowbank Football Ground\, Mill Ln\,\, Dorking\, RH4 1DX\, United Kingdom
CATEGORIES:Events,Fixtures
ATTACH;FMTTYPE=image/png:https://beder.org.uk/wp-content/uploads/2023/09/18thboysget.png
END:VEVENT
BEGIN:VEVENT
DTSTART;TZID=UTC:20231021T180000
DTEND;TZID=UTC:20231021T200000
DTSTAMP:20260423T213451
CREATED:20230714T142533Z
LAST-MODIFIED:20230829T063548Z
UID:10000063-1697911200-1697918400@beder.org.uk
SUMMARY:Beder FC vs. United Minds
DESCRIPTION:Joins us as Beder FC take on United Minds on Saturday 21st October (KO @ 6.00pm) at Meadowbank Stadium in Dorking. \nAll proceeds raised from this event will support Beder in its efforts to provide free access to therapy and raise awareness around mental health and suicide prevention – thank you in advance for your support!
URL:https://beder.org.uk/event/beder-fc-vs-united-minds/
LOCATION:Meadowbank Stadium\, Meadowbank Football Ground\, Mill Ln\,\, Dorking\, RH4 1DX\, United Kingdom
ATTACH;FMTTYPE=image/png:https://beder.org.uk/wp-content/uploads/2023/07/unitedfinal.png
END:VEVENT
BEGIN:VEVENT
DTSTART;TZID=UTC:20230930T180000
DTEND;TZID=UTC:20230930T220000
DTSTAMP:20260423T213451
CREATED:20230802T104345Z
LAST-MODIFIED:20230802T104755Z
UID:10000064-1696096800-1696111200@beder.org.uk
SUMMARY:Beder FC vs. Ripple FC
DESCRIPTION:Beder FC vs Ripple FC at Meadowbank Stadium. Kick-off is at 6:00 pm. \n  \nThis event is your chance to join Beder FC and play an exciting game of football whilst we all play our part in raising awareness around mental health and suicide prevention. \n  \nAll proceeds raised from this event will support Beder in its efforts to raise awareness around mental health and suicide prevention – thank you in advance for your support!
URL:https://beder.org.uk/event/beder-fc-vs-ripple-fc-3/
LOCATION:Meadowbank Stadium\, Meadowbank Football Ground\, Mill Ln\,\, Dorking\, RH4 1DX\, United Kingdom
CATEGORIES:Events,Fixtures
ATTACH;FMTTYPE=image/png:https://beder.org.uk/wp-content/uploads/2023/08/ripplebeder.png
END:VEVENT
BEGIN:VEVENT
DTSTART;TZID=UTC:20230820T120000
DTEND;TZID=UTC:20230820T160000
DTSTAMP:20260423T213451
CREATED:20230612T180058Z
LAST-MODIFIED:20230814T094252Z
UID:10000062-1692532800-1692547200@beder.org.uk
SUMMARY:Beder FC vs. Team Harvey
DESCRIPTION:Joins us to watch Beder FC take on Team Harvey on Sunday 20 August (KO @ 12.00pm) at Meadowbank Stadium in Dorking. \nTeam Harvey is a star studded charity football team\, captain by MC Harvey (world-renowned for this musical exploits with So Solid Crew)\, which will see a host of ex-Premier League players take to the pitch. \nBeder FC will also be announcing a competitive squad filled with ex-pros and well-known personalities for what will be a very memorable charity football match for all of the family in support of Beder. \nAll proceeds raised from this event will support Beder in its efforts to provide free access to therapy and raise awareness around mental health and suicide prevention – thank you in advance for your support!
URL:https://beder.org.uk/event/beder-fc-vs-team-harvey/
LOCATION:Meadowbank Stadium\, Meadowbank Football Ground\, Mill Ln\,\, Dorking\, RH4 1DX\, United Kingdom
ATTACH;FMTTYPE=image/jpeg:https://beder.org.uk/wp-content/uploads/2023/06/WhatsApp-Image-2023-08-08-at-15.50.59.jpeg
END:VEVENT
BEGIN:VEVENT
DTSTART;TZID=UTC:20230415T180000
DTEND;TZID=UTC:20230415T220000
DTSTAMP:20260423T213451
CREATED:20230304T075437Z
LAST-MODIFIED:20230304T075506Z
UID:10000059-1681581600-1681596000@beder.org.uk
SUMMARY:Beder FC vs. Man Down XI
DESCRIPTION:About the Event\n\n\n\nBeder FC will take on Man Down XI at Beder’s home ground\, Meadowbank Football Ground in Dorking. Kick-off is at 6:00 pm. \nThis event is your chance to join Beder FC and play an exciting game of football whilst we all play our part in raising awareness around mental health and suicide prevention. \nAll proceeds raised from this event will support Beder in its efforts to raise awareness around mental health and suicide prevention – thank you in advance for your support!
URL:https://beder.org.uk/event/beder-fc-vs-man-down-xi-2/
LOCATION:Meadowbank Stadium\, Meadowbank Football Ground\, Mill Ln\,\, Dorking\, RH4 1DX\, United Kingdom
CATEGORIES:Fixtures
ATTACH;FMTTYPE=image/png:https://beder.org.uk/wp-content/uploads/2023/03/mandown.png
END:VEVENT
BEGIN:VEVENT
DTSTART;TZID=UTC:20230204T180000
DTEND;TZID=UTC:20230204T220000
DTSTAMP:20260423T213451
CREATED:20230201T124843Z
LAST-MODIFIED:20230201T124843Z
UID:10000057-1675533600-1675548000@beder.org.uk
SUMMARY:Beder FC vs. Virgin Atlantic
DESCRIPTION:Beder FC vs Virgin Atlantic at Meadowbank Stadium home ground. Kick-off is at 6:00 pm. \n  \nThis event is your chance to join Beder FC and play an exciting game of football whilst we all play our part in raising awareness around mental health and suicide prevention. \n  \nAll proceeds raised from this event will support Beder in its efforts to raise awareness around mental health and suicide prevention – thank you in advance for your support!
URL:https://beder.org.uk/event/beder-fc-vs-virgin-atlantic-2/
LOCATION:Meadowbank Stadium\, Meadowbank Football Ground\, Mill Ln\,\, Dorking\, RH4 1DX\, United Kingdom
CATEGORIES:Fixtures
ATTACH;FMTTYPE=image/png:https://beder.org.uk/wp-content/uploads/2023/02/virgin.png
END:VEVENT
BEGIN:VEVENT
DTSTART;TZID=UTC:20221105T180000
DTEND;TZID=UTC:20221105T200000
DTSTAMP:20260423T213451
CREATED:20220922T115823Z
LAST-MODIFIED:20221013T082555Z
UID:10000045-1667671200-1667678400@beder.org.uk
SUMMARY:Beder FC vs. Ripple FC
DESCRIPTION:About the Event\n\n\n\nJoin Beder FC for a football match against Ripple FC to help raise awareness around mental health and suicide prevention on 5th November (KO @ 6pm) at Meadowbank Football Ground in Dorking\, Surrey. \n\nBeder FC will take on Ripple FC at Meadowbank Football Ground which is Beder FC’s home with kick off at 6pm.\n\n\n \n\n\nThis event provides you with the chance to join Beder FC and play an enjoyable game of football whilst we all play our part in raising awareness around mental health and suicide prevention.\n\n\n \n\n\nAll proceeds raised from this event will support Beder in its efforts to raise awareness around mental health and suicide prevention – thank you in advance for your support!
URL:https://beder.org.uk/event/beder-fc-vs-ripple-fc/
LOCATION:Meadowbank Stadium\, Meadowbank Football Ground\, Mill Ln\,\, Dorking\, RH4 1DX\, United Kingdom
CATEGORIES:Events,Fixtures
ATTACH;FMTTYPE=image/png:https://beder.org.uk/wp-content/uploads/2022/09/Beder-FC-template.png
END:VEVENT
BEGIN:VEVENT
DTSTART;TZID=UTC:20221022T180000
DTEND;TZID=UTC:20221022T200000
DTSTAMP:20260423T213451
CREATED:20220929T083355Z
LAST-MODIFIED:20220929T101008Z
UID:10000046-1666461600-1666468800@beder.org.uk
SUMMARY:Beder FC vs. EasyJet FC
DESCRIPTION:About the Event\n\n\n\nJoin Beder FC for a football match against EasyJet FC to help raise awareness around mental health and suicide prevention on 22nd October (KO @ 6pm) at Meadowbank Football Ground in Dorking\, Surrey. \n\nBeder FC will take on EasyJet FC at Meadowbank Football Ground which is Beder FC’s home with kick off at 6pm.\n\n\n \n\n\nThis event provides you with the chance to join Beder FC and play an enjoyable game of football whilst we all play our part in raising awareness around mental health and suicide prevention.\n\n\n \n\n\nAll proceeds raised from this event will support Beder in its efforts to raise awareness around mental health and suicide prevention – thank you in advance for your support!
URL:https://beder.org.uk/event/beder-fc-vs-easyjet-fc/
LOCATION:Meadowbank Stadium\, Meadowbank Football Ground\, Mill Ln\,\, Dorking\, RH4 1DX\, United Kingdom
CATEGORIES:Events,Fixtures
ATTACH;FMTTYPE=image/png:https://beder.org.uk/wp-content/uploads/2022/09/EASYJET.png
END:VEVENT
BEGIN:VEVENT
DTSTART;TZID=UTC:20220903T180000
DTEND;TZID=UTC:20220903T200000
DTSTAMP:20260423T213451
CREATED:20220804T121944Z
LAST-MODIFIED:20220811T083243Z
UID:10000042-1662228000-1662235200@beder.org.uk
SUMMARY:Beder FC vs. Dads Devils FC
DESCRIPTION:About the Event\n\n\n\nJoin Beder FC for a football match against Dads Devils FC to help raise awareness around mental health and suicide prevention on 3rd September (KO @ 6pm) at Meadowbank Football Ground in Dorking\, Surrey. \n\nBeder FC will take on Dads Devils FC at Meadowbank Football Ground which is Beder FC’s home with kick off at 6pm.\n\n\n \n\n\nThis event provides you with the chance to join Beder FC and play an enjoyable game of football whilst we all play our part in raising awareness around mental health and suicide prevention.\n\n\n \n\n\nAll proceeds raised from this event will support Beder in its efforts to raise awareness around mental health and suicide prevention – thank you in advance for your support!
URL:https://beder.org.uk/event/beder-fc-vs-crawley-devils-fc-2/
LOCATION:Meadowbank Stadium\, Meadowbank Football Ground\, Mill Ln\,\, Dorking\, RH4 1DX\, United Kingdom
CATEGORIES:Fixtures
ATTACH;FMTTYPE=image/png:https://beder.org.uk/wp-content/uploads/2022/08/bederdevil1.png
END:VEVENT
END:VCALENDAR