BEGIN:VCALENDAR
VERSION:2.0
PRODID:-//Beder - ECPv6.15.20//NONSGML v1.0//EN
CALSCALE:GREGORIAN
METHOD:PUBLISH
X-WR-CALNAME:Beder
X-ORIGINAL-URL:https://beder.org.uk
X-WR-CALDESC:Events for Beder
REFRESH-INTERVAL;VALUE=DURATION:PT1H
X-Robots-Tag:noindex
X-PUBLISHED-TTL:PT1H
BEGIN:VTIMEZONE
TZID:UTC
BEGIN:STANDARD
TZOFFSETFROM:+0000
TZOFFSETTO:+0000
TZNAME:UTC
DTSTART:20210101T000000
END:STANDARD
END:VTIMEZONE
BEGIN:VEVENT
DTSTART;TZID=UTC:20221218T150000
DTEND;TZID=UTC:20221218T220000
DTSTAMP:20260423T202059
CREATED:20221201T152032Z
LAST-MODIFIED:20221217T141844Z
UID:10000056-1671375600-1671400800@beder.org.uk
SUMMARY:Fifa World Cup - Final
DESCRIPTION:Come watch the FIFA World Cup with us LIVE at The Beder World Cup Experience!  \nWe will be hosting an official LIVE screening of the FIFA World Cup Final with kick off at 3pm at Noho Showrooms\, Great Titchfield Street\, London\, W1W 7PT on Sunday 18th December 2022. \nThe Beder World Cup Experience is a first of its kind premium pop-up exhibition in London harnessing the power of football during the World Cup\, to softly raise awareness around mental health and suicide prevention in support of Beder. \nThe Beder World Cup Experience will:  \n\n offer the chance for people to watch the World Cup knockout matches live \n display the “Beder FC Hall of Fame” containing a collection of signed Beder FC shirts from leading footballers supporting Beder and Beder FC including Harry Kane\, Jack Grealish\, Jordan Henderson\, Bruno Fernandes and Aleksandar Mitrovic\nshowcase “The Beder Boot Room” displaying hand painted football boots by leading artists inspired by the topics of mental health and suicide prevention \nhost a number of engaging panel sessions on a number of key topics including (i) sustainability in sport; (ii) women in sport; and/or nutrition and your mental health \noffer a premium alcohol-free bar stocking Lucky Saint\, Dalstons and Aquapax\n\n 
URL:https://beder.org.uk/event/fifa-world-cup-final/
LOCATION:Noho Showrooms\, Great Titchfield Street\, London\, W1W 7PT.\, W1W 7PT
CATEGORIES:Events
ATTACH;FMTTYPE=image/png:https://beder.org.uk/wp-content/uploads/2022/12/Screenshot-2022-12-01-at-15.18.00.png
END:VEVENT
BEGIN:VEVENT
DTSTART;TZID=UTC:20221214T190000
DTEND;TZID=UTC:20221214T220000
DTSTAMP:20260423T202059
CREATED:20221020T091008Z
LAST-MODIFIED:20221205T101939Z
UID:10000052-1671044400-1671055200@beder.org.uk
SUMMARY:Fifa World Cup - Semi Final
DESCRIPTION:Come watch the FIFA World Cup with us LIVE at The Beder World Cup Experience!  \nWe will be hosting an official LIVE screening of the FIFA World Cup Semi Final between W59 and W60 with kick off at 7pm at Noho Showrooms\, Great Titchfield Street\, London\, W1W 7PT on Wednesday 14th December 2022. \nThe Beder World Cup Experience is a first of its kind premium pop-up exhibition in London harnessing the power of football during the World Cup\, to softly raise awareness around mental health and suicide prevention in support of Beder. \nThe Beder World Cup Experience will:  \n\n offer the chance for people to watch the World Cup knockout matches live \n display the “Beder FC Hall of Fame” containing a collection of signed Beder FC shirts from leading footballers supporting Beder and Beder FC including Harry Kane\, Jack Grealish\, Jordan Henderson\, Bruno Fernandes and Aleksandar Mitrovic\nshowcase “The Beder Boot Room” displaying hand painted football boots by leading artists inspired by the topics of mental health and suicide prevention \nhost a number of engaging panel sessions on a number of key topics including (i) sustainability in sport; (ii) women in sport; and/or nutrition and your mental health \noffer a premium alcohol-free bar stocking Lucky Saint\, Dalstons and Aquapax\n\n 
URL:https://beder.org.uk/event/fifa-world-cup-semi-final-2/
LOCATION:Noho Showrooms\, Great Titchfield Street\, London\, W1W 7PT.\, W1W 7PT
CATEGORIES:Events
ATTACH;FMTTYPE=image/png:https://beder.org.uk/wp-content/uploads/2022/10/4-1.png
END:VEVENT
BEGIN:VEVENT
DTSTART;TZID=UTC:20221213T190000
DTEND;TZID=UTC:20221213T220000
DTSTAMP:20260423T202059
CREATED:20221020T085723Z
LAST-MODIFIED:20221205T102015Z
UID:10000051-1670958000-1670968800@beder.org.uk
SUMMARY:Fifa World Cup - Semi Final
DESCRIPTION:Come watch the FIFA World Cup with us LIVE at The Beder World Cup Experience!  \nWe will be hosting an official LIVE screening of the FIFA World Cup Semi Final between W57 and W58 with kick off at 7pm at Noho Showrooms\, Great Titchfield Street\, London\, W1W 7PT on Tuesday 13th December 2022. \nThe Beder World Cup Experience is a first of its kind premium pop-up exhibition in London harnessing the power of football during the World Cup\, to softly raise awareness around mental health and suicide prevention in support of Beder. \nThe Beder World Cup Experience will:  \n\n offer the chance for people to watch the World Cup knockout matches live \n display the “Beder FC Hall of Fame” containing a collection of signed Beder FC shirts from leading footballers supporting Beder and Beder FC including Harry Kane\, Jack Grealish\, Jordan Henderson\, Bruno Fernandes and Aleksandar Mitrovic\nshowcase “The Beder Boot Room” displaying hand painted football boots by leading artists inspired by the topics of mental health and suicide prevention \nhost a number of engaging panel sessions on a number of key topics including (i) sustainability in sport; (ii) women in sport; and/or nutrition and your mental health \noffer a premium alcohol-free bar stocking Lucky Saint\, Dalstons and Aquapax\n\n 
URL:https://beder.org.uk/event/fifa-world-cup-semi-final/
LOCATION:Noho Showrooms\, Great Titchfield Street\, London\, W1W 7PT.\, W1W 7PT
CATEGORIES:Events
ATTACH;FMTTYPE=image/png:https://beder.org.uk/wp-content/uploads/2022/10/3-1.png
END:VEVENT
BEGIN:VEVENT
DTSTART;TZID=UTC:20221210T190000
DTEND;TZID=UTC:20221210T220000
DTSTAMP:20260423T202059
CREATED:20221020T084914Z
LAST-MODIFIED:20221205T102124Z
UID:10000050-1670698800-1670709600@beder.org.uk
SUMMARY:Fifa World Cup - Quarter Final
DESCRIPTION:Come watch the FIFA World Cup with us LIVE at The Beder World Cup Experience!  \nWe will be hosting an official LIVE screening of the FIFA World Cup Quarter Final between W51 and W52 with kick off at 7pm at Noho Showrooms\, Great Titchfield Street\, London\, W1W 7PT on Saturday 10th December 2022. \nThe Beder World Cup Experience is a first of its kind premium pop-up exhibition in London harnessing the power of football during the World Cup\, to softly raise awareness around mental health and suicide prevention in support of Beder. \nThe Beder World Cup Experience will:  \n\n offer the chance for people to watch the World Cup knockout matches live \n display the “Beder FC Hall of Fame” containing a collection of signed Beder FC shirts from leading footballers supporting Beder and Beder FC including Harry Kane\, Jack Grealish\, Jordan Henderson\, Bruno Fernandes and Aleksandar Mitrovic\nshowcase “The Beder Boot Room” displaying hand painted football boots by leading artists inspired by the topics of mental health and suicide prevention \nhost a number of engaging panel sessions on a number of key topics including (i) sustainability in sport; (ii) women in sport; and/or nutrition and your mental health \noffer a premium alcohol-free bar stocking Lucky Saint\, Dalstons and Aquapax\n\n 
URL:https://beder.org.uk/event/fifa-world-cup-quarter-final/
LOCATION:Noho Showrooms\, Great Titchfield Street\, London\, W1W 7PT.\, W1W 7PT
CATEGORIES:Events
ATTACH;FMTTYPE=image/png:https://beder.org.uk/wp-content/uploads/2022/10/2-1.png
END:VEVENT
BEGIN:VEVENT
DTSTART;TZID=UTC:20221209T190000
DTEND;TZID=UTC:20221209T220000
DTSTAMP:20260423T202059
CREATED:20221019T154248Z
LAST-MODIFIED:20221205T102235Z
UID:10000049-1670612400-1670623200@beder.org.uk
SUMMARY:Fifa World Cup - Quarter Final
DESCRIPTION:Come watch the FIFA World Cup with us LIVE at The Beder World Cup Experience!  \nWe will be hosting an official LIVE screening of the FIFA World Cup Quarter Final between W49 andW50 with kick off at 7pm at Noho Showrooms\, Great Titchfield Street\, London\, W1W 7PT on Friday 9 December 2022. \nThe Beder World Cup Experience is a first of its kind premium pop-up exhibition in London harnessing the power of football during the World Cup\, to softly raise awareness around mental health and suicide prevention in support of Beder. \nThe Beder World Cup Experience will:  \n\n offer the chance for people to watch the World Cup knockout matches live \n display the “Beder FC Hall of Fame” containing a collection of signed Beder FC shirts from leading footballers supporting Beder and Beder FC including Harry Kane\, Jack Grealish\, Jordan Henderson\, BrunoFernandes8 and Aleksandar Mitrovic\nshowcase “The Beder Boot Room” displaying hand painted football boots by leading artists inspired by the topics of mental health and suicide prevention \nhost a number of engaging panel sessions on a number of key topics including (i) sustainability in sport; (ii) women in sport; and/or nutrition and your mental health \noffer a premium alcohol-free bar stocking Lucky Saint\, Dalstons and Aquapax\n\n 
URL:https://beder.org.uk/event/world-cup-quarter-final-9th-october/
LOCATION:Noho Showrooms\, Great Titchfield Street\, London\, W1W 7PT.\, W1W 7PT
CATEGORIES:Events
ATTACH;FMTTYPE=image/png:https://beder.org.uk/wp-content/uploads/2022/10/1-1.png
END:VEVENT
BEGIN:VEVENT
DTSTART;TZID=UTC:20221207T190000
DTEND;TZID=UTC:20221207T210000
DTSTAMP:20260423T202059
CREATED:20221108T100014Z
LAST-MODIFIED:20221201T151626Z
UID:10000053-1670439600-1670446800@beder.org.uk
SUMMARY:Sustainability in the Football Industry - Panel talk
DESCRIPTION:Join us for a panel talk at The Beder World Cup Experience which will be hosted by David Garrido as we open up the conversation about sustainability in the football industry with some of football’s top figures who are leading the way to a more eco-friendly future for the sport.\n\nOur expert panel will include:\n\n– David Garrido\, a leading sports broadcaster with over 20 years’ experience in the industry. He is a regular face on Sky Sports News\, with a particular interest in sustainability.\n\n– Jake Hardy\, Founder of Sokito  which is a business producing hand-craft eco-friendly football boots that change the game.\n\n– Jordan Dawson\, a well known football boot artist\, will be designing and hand painting a pair of Sokito football boots during this event. He has previously designed footballers’ boots for Mason Mount\, Declan Rice\, Marcus Rashford\, Ollie Watkins\, Tariq Lamptey & more.\n\n– FootballForFuture and more speaker due to be confirmed.\n\nThe Beder World Cup Experience is a first of its kind exhibition and experience\, harnessing the power of the World Cup\, to raise awareness around mental health and suicide prevention in support of Beder and Beder FC.\n\nBeder is a charity taking a unique approach to softly raising awareness around these important societal issues bringing people together who share similar interests through a range of events and initiatives in order to reduce the number of people suffering in silence and feeling that taking their own life is the only option.\n\nBeder was founded in November 2019 by Razzak Mirjan and his family following the loss of Beder Mirjan who sadly took his own life at the age of 18 in April 2017.
URL:https://beder.org.uk/event/sustainability-in-the-football-industry-panel-talk/
LOCATION:Noho Showrooms\, Great Titchfield Street\, London\, W1W 7PT.\, W1W 7PT
ATTACH;FMTTYPE=image/jpeg:https://beder.org.uk/wp-content/uploads/2022/11/SOK-_-Ticket-page-post.jpg
END:VEVENT
BEGIN:VEVENT
DTSTART;TZID=UTC:20221207T133000
DTEND;TZID=UTC:20221207T150000
DTSTAMP:20260423T202059
CREATED:20221129T175304Z
LAST-MODIFIED:20221201T153900Z
UID:10000055-1670419800-1670425200@beder.org.uk
SUMMARY:In conversation with Alex Iwobi
DESCRIPTION:Join us for a panel talk with Alex Iwobi at The Beder World Cup Experience which will be hosted by Mayowa Quadri alongside Marvin Sordell. \nIt will be a chance to hear from Alex Iwobi – one of Everton’s leading players this season – about his career\, thoughts on the World Cup and how he handles the pressures of being a professional footballer at the highest level whilst looking after his mental health. \nThe Beder World Cup Experience is a first of its kind exhibition and experience\, harnessing the power of the World Cup\, to raise awareness around mental health and suicide prevention in support of Beder and Beder FC. \nBeder is a charity taking a unique approach to softly raising awareness around these important societal issues bringing people together who share similar interests through a range of events and initiatives in order to reduce the number of people suffering in silence and feeling that taking their own life is the only option. \nBeder was founded in November 2019 by Razzak Mirjan and his family following the loss of Beder Mirjan who sadly took his own life at the age of 18 in April 2017.
URL:https://beder.org.uk/event/in-conversation-with-alex-iwobi/
LOCATION:Noho Showrooms\, Great Titchfield Street\, London\, W1W 7PT.\, W1W 7PT
ATTACH;FMTTYPE=image/jpeg:https://beder.org.uk/wp-content/uploads/2022/11/WhatsApp-Image-2022-12-01-at-15.36.15.jpeg
END:VEVENT
END:VCALENDAR