BEGIN:VCALENDAR
VERSION:2.0
PRODID:-//Beder - ECPv6.15.20//NONSGML v1.0//EN
CALSCALE:GREGORIAN
METHOD:PUBLISH
X-WR-CALNAME:Beder
X-ORIGINAL-URL:https://beder.org.uk
X-WR-CALDESC:Events for Beder
REFRESH-INTERVAL;VALUE=DURATION:PT1H
X-Robots-Tag:noindex
X-PUBLISHED-TTL:PT1H
BEGIN:VTIMEZONE
TZID:UTC
BEGIN:STANDARD
TZOFFSETFROM:+0000
TZOFFSETTO:+0000
TZNAME:UTC
DTSTART:20230101T000000
END:STANDARD
END:VTIMEZONE
BEGIN:VEVENT
DTSTART;TZID=UTC:20241127T190000
DTEND;TZID=UTC:20241127T230000
DTSTAMP:20260423T184754
CREATED:20240714T055635Z
LAST-MODIFIED:20241029T111547Z
UID:10000074-1732734000-1732748400@beder.org.uk
SUMMARY:The Beder Birthday Dinner
DESCRIPTION:Welcome to The Beder Birthday Dinner 2024! \nJoin us for a special charity gala dinner at The RAF Club in London on 27 November as we celebrate Beder’s 5th birthday\, as a charity\, whilst hoping to raise vital funds to further our work and provision of free access to therapy through Beder Therapy Vouchers. \nYou will enjoy a pre-dinner drinks reception followed by a 3-course meal in addition to live entertainment\, an auction and inspiring stories from some notable Beder ambassadors. \nThere will also be special achievement awards being presented to those who have played a key role in helping Beder grow into a platform for us all to play our part in raising awareness around mental health and suicide prevention. \nYour support will make a direct tangible difference as we work hard to keep taking a unique approach to softly raising awareness around mental health and suicide prevention. Get your tickets now! \nTicket includes:\n– Welcome drink\n– 3 course dinner and ½ bottle of wine\n– Live music \nThere will also be options to take part in our live auction filled with exciting prizes for additional donations. \nWe have a limited number of tables of 10 available so please buy directly through the website or get in touch to discuss any special requirements to inspire@beder.org.uk.
URL:https://beder.org.uk/event/the-beder-birthday-dinner/
LOCATION:RAF Club\, Mayfair\, London\, 128 Piccadilly\, Mayfair\, London\, W1J 7PY\, United Kingdom
ATTACH;FMTTYPE=image/jpeg:https://beder.org.uk/wp-content/uploads/2024/07/WhatsApp-Image-2024-08-15-at-20.26.35.jpeg
END:VEVENT
END:VCALENDAR